BEGIN:VCALENDAR
VERSION:2.0
PRODID:-//wp-events-plugin.com//7.2.3.1//EN
TZID:Europe/Berlin
X-WR-TIMEZONE:Europe/Berlin
BEGIN:VEVENT
UID:759@qzm-rn.de
DTSTART;TZID=Europe/Berlin:20260422T140000
DTEND;TZID=Europe/Berlin:20260422T183000
DTSTAMP:20260408T100828Z
URL:https://qzm-rn.de/en/events/kaffee-mit-klaus-6/
SUMMARY:Kaffee mit Klaus
DESCRIPTION:Wollt ihr auch mal unter der Woche zusammen bei uns entspannen 
 und die Seele baumeln lassen? Dann kommt gerne am Mittwoch (22.04.) zwisch
 en 14:30 und 18:30 auf warme und kalte Getränke vorbei. Es gibt Kuchen un
 d pikante Brötchen und hoffentlich schöne Gespräche beim gemütlichen B
 eisammensein im Café des QZM.
ATTACH;FMTTYPE=image/jpeg:https://qzm-rn.de/wp-content/uploads/2026/04/Kaf
 fee-mit-Klaus-HP-1600-x-1066-px.png
CATEGORIES:Café,Veranstaltung
LOCATION:QZM\, G7 14\, Mannheim\, Baden-Württemberg\, 68159\, Germany
X-APPLE-STRUCTURED-LOCATION;VALUE=URI;X-ADDRESS=G7 14\, Mannheim\, Baden-W
 ürttemberg\, 68159\, Germany;X-APPLE-RADIUS=100;X-TITLE=QZM:geo:0,0
END:VEVENT
BEGIN:VTIMEZONE
TZID:Europe/Berlin
X-LIC-LOCATION:Europe/Berlin
BEGIN:DAYLIGHT
DTSTART:20260329T030000
TZOFFSETFROM:+0100
TZOFFSETTO:+0200
TZNAME:CEST
END:DAYLIGHT
END:VTIMEZONE
END:VCALENDAR