BEGIN:VCALENDAR
VERSION:2.0
PRODID:-//wp-events-plugin.com//7.2.3.1//EN
TZID:Europe/Berlin
X-WR-TIMEZONE:Europe/Berlin
BEGIN:VEVENT
UID:735@qzm-rn.de
DTSTART;TZID=Europe/Berlin:20260314T143000
DTEND;TZID=Europe/Berlin:20260314T173000
DTSTAMP:20260309T120142Z
URL:https://qzm-rn.de/en/events/kaffeekraenzchen-3/
SUMMARY:Kaffeekränzchen
DESCRIPTION:Das Kaffeekränzchen geht in die nächste Runde! Kommt gerne am
  14.03. ab 14:30 Uhr auf Kaffee\, Kuchen und gemütliches Beisammensein im
  Café des QZM vorbei. Bei diesem Kaffeekränzchen gibt es einen Multimedi
 a-Workshop „Digital Dabei!" für den Umgang mit eurem Laptop\, Handy ode
 r Tablet.
ATTACH;FMTTYPE=image/jpeg:https://qzm-rn.de/wp-content/uploads/2026/03/Kaf
 feekraenzchen-FB-1273-x-719-px-1920-x-1080-px.png
CATEGORIES:Café,Workshop
LOCATION:QZM\, G7 14\, Mannheim\, Baden-Württemberg\, 68159\, Germany
X-APPLE-STRUCTURED-LOCATION;VALUE=URI;X-ADDRESS=G7 14\, Mannheim\, Baden-W
 ürttemberg\, 68159\, Germany;X-APPLE-RADIUS=100;X-TITLE=QZM:geo:0,0
END:VEVENT
BEGIN:VTIMEZONE
TZID:Europe/Berlin
X-LIC-LOCATION:Europe/Berlin
BEGIN:STANDARD
DTSTART:20251026T020000
TZOFFSETFROM:+0200
TZOFFSETTO:+0100
TZNAME:CET
END:STANDARD
END:VTIMEZONE
END:VCALENDAR