BEGIN:VCALENDAR
VERSION:2.0
PRODID:-//wp-events-plugin.com//7.2.3.1//EN
TZID:Europe/Berlin
X-WR-TIMEZONE:Europe/Berlin
BEGIN:VEVENT
UID:762@qzm-rn.de
DTSTART;TZID=Europe/Berlin:20260423T190000
DTEND;TZID=Europe/Berlin:20260423T190000
DTSTAMP:20260413T113830Z
URL:https://qzm-rn.de/en/events/pub-quiz-sapphic-edition/
SUMMARY:Pub Quiz Sapphic Edition
DESCRIPTION:Am Donnerstag\, den 23. April findet das Pub Quiz - Sapphic Edi
 tion im QZM statt! Fridi und Caro hosten den Abend mit Fragen\, Spaß und 
 jeder Menge queerem Quizfieber. Im Quiz dreht sich alles um sapphische The
 men\, und natürlich sind alle Menschen willkommen!\nKommt allein oder in 
 einer kleinen Gruppe und quizzt mit uns!
ATTACH;FMTTYPE=image/jpeg:https://qzm-rn.de/wp-content/uploads/2026/04/Pub
 -Quiz-Sapphic-Edition-1600-x-1066-px.png
CATEGORIES:Café,Veranstaltung
LOCATION:QZM\, G7 14\, Mannheim\, Baden-Württemberg\, 68159\, Germany
X-APPLE-STRUCTURED-LOCATION;VALUE=URI;X-ADDRESS=G7 14\, Mannheim\, Baden-W
 ürttemberg\, 68159\, Germany;X-APPLE-RADIUS=100;X-TITLE=QZM:geo:0,0
END:VEVENT
BEGIN:VTIMEZONE
TZID:Europe/Berlin
X-LIC-LOCATION:Europe/Berlin
BEGIN:DAYLIGHT
DTSTART:20260329T030000
TZOFFSETFROM:+0100
TZOFFSETTO:+0200
TZNAME:CEST
END:DAYLIGHT
END:VTIMEZONE
END:VCALENDAR