BEGIN:VCALENDAR
VERSION:2.0
PRODID:-//wp-events-plugin.com//7.2.3.1//EN
TZID:Europe/Berlin
X-WR-TIMEZONE:Europe/Berlin
BEGIN:VEVENT
UID:733@qzm-rn.de
DTSTART;TZID=Europe/Berlin:20260315T190000
DTEND;TZID=Europe/Berlin:20260315T190000
DTSTAMP:20260304T110633Z
URL:https://qzm-rn.de/en/events/tina-hangout-5/
SUMMARY:TINA* Hangout
DESCRIPTION:Hey Leute! Wir laden euch herzlich zu unserem neuen Format ein\
 , um gemeinsam eine gute Zeit zu haben und uns zu vernetzen. Wir möchten 
 einen Raum schaffen\, in dem sich Trans\, Inter\, Non-Binary\, Agender\, Q
 ueers\, Questioning & ihre Friends wohlfühlen\, ohne Druck und ohne Hürd
 en. Kommt vorbei\, bringt eure Kreativität mit und lasst uns gemeinsam ch
 illen!
ATTACH;FMTTYPE=image/jpeg:https://qzm-rn.de/wp-content/uploads/2026/03/Tin
 a-Hangout-HP.png
CATEGORIES:Veranstaltung
LOCATION:QZM\, G7 14\, Mannheim\, Baden-Württemberg\, 68159\, Germany
X-APPLE-STRUCTURED-LOCATION;VALUE=URI;X-ADDRESS=G7 14\, Mannheim\, Baden-W
 ürttemberg\, 68159\, Germany;X-APPLE-RADIUS=100;X-TITLE=QZM:geo:0,0
END:VEVENT
BEGIN:VTIMEZONE
TZID:Europe/Berlin
X-LIC-LOCATION:Europe/Berlin
BEGIN:STANDARD
DTSTART:20251026T020000
TZOFFSETFROM:+0200
TZOFFSETTO:+0100
TZNAME:CET
END:STANDARD
END:VTIMEZONE
END:VCALENDAR